BEGIN:VCALENDAR
VERSION:2.0
PRODID:-//ChamberMaster//Event Calendar 2.0//EN
METHOD:PUBLISH
X-PUBLISHED-TTL:P3D
REFRESH-INTERVAL:P3D
CALSCALE:GREGORIAN
BEGIN:VEVENT
DTSTART;VALUE=DATE:20090120
DTEND;VALUE=DATE:20090121
TRANSP:TRANSPARENT
X-MICROSOFT-CDO-ALLDAYEVENT:TRUE
SUMMARY:No School in New Albany-Inservice Day
DESCRIPTION:
X-ALT-DESC;FMTTYPE=text/html:
LOCATION:
UID:e.304.276
SEQUENCE:3
DTSTAMP:20260422T053330Z
URL:https://cm.newalbanychamber.com/events/details/no-school-in-new-albany-inservice-day-01-20-2009-276
END:VEVENT

END:VCALENDAR
