BEGIN:VCALENDAR
VERSION:2.0
PRODID:-//ChamberMaster//Event Calendar 2.0//EN
METHOD:PUBLISH
X-PUBLISHED-TTL:P3D
REFRESH-INTERVAL:P3D
CALSCALE:GREGORIAN
BEGIN:VEVENT
DTSTART:20081120T163000Z
DTEND:20081120T180000Z
X-MICROSOFT-CDO-ALLDAYEVENT:FALSE
SUMMARY:November Chamber Monthly Meeting
DESCRIPTION:MONTHLY CHAMBER LUNCHEON"FRAMING YOUR MESSAGE" PANELIST WILL ADDRESS RENDS IN COMMUNICATIONS.  hOW TO HELP YOU CLIENTS REACH THEIR TARGET MARKETS.SPEAKERS WILL BE:MICHELLE ADAMS - PRISM MARKETING COMMUNICATIONS\, BECKY ZIEGLER\, SBC ADVERTISING\, CAMERON JAMES\, MILLS JAMES PRODUCTIONS\, AND SUE RENINGER\, RMD ADVERTISING.MEETING SPONSOR:  YIKES!  MARY MCMARTIN
X-ALT-DESC;FMTTYPE=text/html:<div>MONTHLY CHAMBER LUNCHEON</div><div>&quot\;FRAMING YOUR MESSAGE&quot\; PANELIST WILL ADDRESS RENDS IN COMMUNICATIONS.&nbsp\; hOW TO HELP YOU CLIENTS REACH THEIR TARGET MARKETS.</div><div>SPEAKERS WILL BE:</div><div>MICHELLE ADAMS - PRISM MARKETING COMMUNICATIONS\, BECKY ZIEGLER\, SBC ADVERTISING\, CAMERON JAMES\, MILLS JAMES PRODUCTIONS\, AND SUE RENINGER\, RMD ADVERTISING.</div><div>MEETING SPONSOR:&nbsp\; YIKES!&nbsp\; MARY MCMARTIN</div>
LOCATION:New Albany Country Club One Club Lane New Albany\, Ohio 43054
UID:e.304.328
SEQUENCE:3
DTSTAMP:20260422T090020Z
URL:https://cm.newalbanychamber.com/events/details/november-chamber-monthly-meeting-11-20-2008-328
END:VEVENT

END:VCALENDAR
