BEGIN:VCALENDAR
VERSION:2.0
PRODID:-//ChamberMaster//Event Calendar 2.0//EN
METHOD:PUBLISH
X-PUBLISHED-TTL:P3D
REFRESH-INTERVAL:P3D
CALSCALE:GREGORIAN
BEGIN:VEVENT
DTSTART;VALUE=DATE:20081212
DTEND;VALUE=DATE:20081215
TRANSP:TRANSPARENT
X-MICROSOFT-CDO-ALLDAYEVENT:TRUE
SUMMARY:Nutcracker 2008
DESCRIPTION:The New Albany Ballet Company will be presenting the holiday classic\, the "Nutcracker"\, at the Jeanne B. McCoy Community Center for the Arts at 100 West Granville Street in New Albany\, 43054. It will be held on Friday\, December 12\, at 7pm\, Saturday\, December 13\, at 2pm and 7pm and on Sunday\, December 14 at 2pm. This classic ballet will feature all of the ballet dancers at the New Albany Ballet Company and will give even the youngest members of the school a wonderful learning experience that they will cherish for many years. This version of the "Nutcracker" will be whimsical\, child friendly and entertaining for all audience members. For more information contact Tara Miller at 614.939.9058.
X-ALT-DESC;FMTTYPE=text/html:<div>The New Albany Ballet Company will be presenting the holiday classic\, the &quot\;Nutcracker&quot\;\, at the Jeanne B. McCoy Community Center for the Arts at 100 West Granville Street in New Albany\, 43054. It will be held on Friday\, December 12\, at 7pm\, Saturday\, December 13\, at 2pm and 7pm and on Sunday\, December 14 at 2pm. This classic ballet will feature all of the ballet dancers at the New Albany Ballet Company and will give even the youngest members of the school a wonderful learning experience that they will cherish for many years. This version of the &quot\;Nutcracker&quot\; will be whimsical\, child friendly and entertaining for all audience members. For more information contact Tara Miller at 614.939.9058.</div>
LOCATION:
UID:e.304.330
SEQUENCE:3
DTSTAMP:20260422T083726Z
URL:https://cm.newalbanychamber.com/events/details/nutcracker-2008-12-12-2008-330
END:VEVENT

END:VCALENDAR
