BEGIN:VCALENDAR
VERSION:2.0
PRODID:-//ChamberMaster//Event Calendar 2.0//EN
METHOD:PUBLISH
X-PUBLISHED-TTL:P3D
REFRESH-INTERVAL:P3D
CALSCALE:GREGORIAN
BEGIN:VEVENT
DTSTART:20101021T153000Z
DTEND:20101021T170000Z
X-MICROSOFT-CDO-ALLDAYEVENT:FALSE
SUMMARY:October Chamber Luncheon
DESCRIPTION:October Monthly Chamber luncheon\n\nPresenting Guest Speaker: Alison Clark\n\nDirector of business Services for the\n\nOhio Secretary of State office\n\n\n\nAlso guest speaking will be:\n\nChris Anderson on the New Albany Venture Development\n\nOur Progress and Opportunities\n\n\n\nThursday\, October 21st\n\n11:30 a.m.-1:00 p.m.\n\nHampton Inn & Suites\n\n4150 Stelzer Rd.
X-ALT-DESC;FMTTYPE=text/html:<strong><span style="font-size: 14px"><span style="font-family: times new roman">October Monthly Chamber luncheon<br />\nPresenting Guest Speaker: Alison Clark<br />\nDirector of business Services for the<br />\nOhio Secretary of State office<br />\n<br />\nAlso guest speaking will be:<br />\nChris Anderson on the New Albany Venture Development<br />\nOur Progress and Opportunities</span></span></strong><br />\n<br />\nThursday\, October 21st<br />\n11:30 a.m.-1:00 p.m.<br />\nHampton Inn &amp\; Suites<br />\n4150 Stelzer Rd.
LOCATION:Hampton Inn & Suites 4150 Stelzer Rd. Columbus\, Ohio 43230
UID:e.304.719
SEQUENCE:3
DTSTAMP:20260420T210615Z
URL:https://cm.newalbanychamber.com/events/details/october-chamber-luncheon-10-21-2010-719
END:VEVENT

END:VCALENDAR
