BEGIN:VCALENDAR
VERSION:2.0
PRODID:-//ChamberMaster//Event Calendar 2.0//EN
METHOD:PUBLISH
X-PUBLISHED-TTL:P3D
REFRESH-INTERVAL:P3D
CALSCALE:GREGORIAN
BEGIN:VEVENT
DTSTART:20091016T033000Z
DTEND:20091015T170000Z
X-MICROSOFT-CDO-ALLDAYEVENT:FALSE
SUMMARY:October Chamber Meeting 2009
DESCRIPTION:The New Albany Chamber of Commerce invites you to attend our monthly chamber event that will be held on Thursday\, October 15\, of 2009. This event will begin at 11:30am at the Royal Amercian Links located at 3300 Miller Paul Road in Galena\, 43021. For more information contact the chamber at 614-855-4400.
X-ALT-DESC;FMTTYPE=text/html:<div>The New Albany Chamber of Commerce invites you to attend our monthly chamber event that will be held on Thursday\, October 15\,&nbsp\;of 2009. This event will begin at 11:30am at the Royal Amercian Links located at 3300 Miller Paul Road in Galena\, 43021. For more information contact the chamber at 614-855-4400.</div>
LOCATION:3300 Miller Paul RoadGalena\, Ohio Take Rt. 605 North of New Albany\, turn left onto Schleppi Rd. and continue north for about 5 miles. Schleppi turns into Miller Paul Rd. Royal American Golf Club will be on the left hand side of the road.
UID:e.304.383
SEQUENCE:3
DTSTAMP:20260421T160116Z
URL:https://cm.newalbanychamber.com/events/details/october-chamber-meeting-2009-10-15-2009-383
END:VEVENT

END:VCALENDAR
