BEGIN:VCALENDAR
VERSION:2.0
PRODID:-//ChamberMaster//Event Calendar 2.0//EN
METHOD:PUBLISH
X-PUBLISHED-TTL:P3D
REFRESH-INTERVAL:P3D
CALSCALE:GREGORIAN
BEGIN:VEVENT
DTSTART:20090512T170000Z
DTEND:20090512T230000Z
X-MICROSOFT-CDO-ALLDAYEVENT:FALSE
SUMMARY:Ohio Chamber of Commerce Day
DESCRIPTION:Round Table discussions on "Revving Up Ohio's Ecomony" with speakers John Houston-USPrivate Companies\, LLC\, Baji Shah-President & CEO of BioEnterprise\, Matt Lonthorne-VP of Corporate Development & Strategies for Xunlight Corp. and Bob Kington-CEO of Toobla.
X-ALT-DESC;FMTTYPE=text/html:Round Table discussions on "Revving Up Ohio's Ecomony" with speakers John Houston-USPrivate Companies\, LLC\, Baji Shah-President & CEO of BioEnterprise\, Matt Lonthorne-VP of Corporate Development & Strategies for Xunlight Corp. and Bob Kington-CEO of Toobla.
LOCATION:Verne Riffe Center and Center\, Hyatt on Capital Square
UID:e.304.448
SEQUENCE:3
DTSTAMP:20260421T234234Z
URL:https://cm.newalbanychamber.com/events/details/ohio-chamber-of-commerce-day-05-12-2009-448
END:VEVENT

END:VCALENDAR
