BEGIN:VCALENDAR
VERSION:2.0
PRODID:-//ChamberMaster//Event Calendar 2.0//EN
METHOD:PUBLISH
X-PUBLISHED-TTL:P3D
REFRESH-INTERVAL:P3D
CALSCALE:GREGORIAN
BEGIN:VEVENT
DTSTART:20250513T150000Z
DTEND:20250513T190000Z
X-MICROSOFT-CDO-ALLDAYEVENT:FALSE
SUMMARY:Ohio Tourism Day at the Ohio Statehouse
DESCRIPTION:Ohio Tourism Day is a celebration of Ohio's tourism industry and provides the opportunity for consumers to plan their Ohio vacations while visiting with tourism destinations and attractions from across the state. The FREE event will be held on Tuesday\, May 13\, 2025\, at 11 am\, on the West Plaza of the Ohio Statehouse. The day will include entertainment\, demonstrations\, interactive experiences and booths represented by Ohio's tourism industry leaders.
X-ALT-DESC;FMTTYPE=text/html:<div style="text-align: justify\;"><br />\nOhio Tourism Day is a celebration of Ohio&rsquo\;s tourism industry and provides the opportunity for consumers to plan their Ohio vacations while visiting with tourism destinations and attractions from across the state. The FREE event will be held on Tuesday\, May 13\, 2025\, at 11 am\, on the West Plaza of the Ohio Statehouse. The day will include entertainment\, demonstrations\, interactive experiences and booths represented by Ohio&rsquo\;s tourism industry leaders.</div>\n
LOCATION:Ohio Statehouse 1 Capitol Sq\, Columbus\, OH 43215
UID:e.304.20192
SEQUENCE:3
DTSTAMP:20260420T221432Z
URL:https://cm.newalbanychamber.com/events/details/ohio-tourism-day-at-the-ohio-statehouse-20192
END:VEVENT

END:VCALENDAR
