BEGIN:VCALENDAR
VERSION:2.0
PRODID:-//ChamberMaster//Event Calendar 2.0//EN
METHOD:PUBLISH
X-PUBLISHED-TTL:P3D
REFRESH-INTERVAL:P3D
CALSCALE:GREGORIAN
BEGIN:VEVENT
DTSTART:20101026T233000Z
DTEND:20101027T020000Z
X-MICROSOFT-CDO-ALLDAYEVENT:FALSE
SUMMARY:Oklahoma! Broadway Touring Musical
DESCRIPTION:The story is set in times of conflict between farmers and cattlemen\, and tells the tale of farm girl Laurey and the two rivals for her affections: the cowboy Curly and sinister farm hand Jud. It includes the classic numbers Oh\, What a Beautiful Morninâ?? \, Surrey with The Fringe on Top\, People Will Say Weâ??re in Love\, I Cainâ??t Say No and Oklahoma. For more info visit http://www.mccoycenter.org.
X-ALT-DESC;FMTTYPE=text/html:The story is set in times of conflict between farmers and cattlemen\, and tells the tale of farm girl Laurey and the two rivals for her affections: the cowboy Curly and sinister farm hand Jud. It includes the classic numbers Oh\, What a Beautiful Morninâ?? \, Surrey with The Fringe on Top\, People Will Say Weâ??re in Love\, I Cainâ??t Say No and Oklahoma. For more info visit http://www.mccoycenter.org. 
LOCATION:Jeanne B. McCoy Community Center for the Arts located at 100 W. Dublin-Granville Road New Albany\, OH 43054
UID:e.304.700
SEQUENCE:3
DTSTAMP:20260420T225240Z
URL:https://cm.newalbanychamber.com/events/details/oklahoma-broadway-touring-musical-10-26-2010-700
END:VEVENT

END:VCALENDAR
