BEGIN:VCALENDAR
VERSION:2.0
PRODID:-//ChamberMaster//Event Calendar 2.0//EN
METHOD:PUBLISH
X-PUBLISHED-TTL:P3D
REFRESH-INTERVAL:P3D
CALSCALE:GREGORIAN
BEGIN:VEVENT
DTSTART;VALUE=DATE:20081004
DTEND;VALUE=DATE:20081005
TRANSP:TRANSPARENT
X-MICROSOFT-CDO-ALLDAYEVENT:TRUE
SUMMARY:Oktoberfest 2008
DESCRIPTION:Food\, games\, live music and entertainment for the whole family. \n\n3:00 p.m.- Midnight\n\nTwo Jumbo Screens televising afternoon & evening football.\n\nNew Albany Rotary Beer Garden\n\nChildrens activities
X-ALT-DESC;FMTTYPE=text/html:<div>Food\, games\, live music and entertainment for the whole family.&nbsp\;</div>\n\n<div>3:00 p.m.- Midnight</div>\n\n<div>Two Jumbo Screens televising afternoon &amp\; evening football.</div>\n\n<div>New Albany Rotary Beer Garden</div>\n\n<div>Childrens activities</div>\n
LOCATION:Market Street. The road will be closed off and activities will be on the grass and on the street.
UID:e.304.200
SEQUENCE:3
DTSTAMP:20260422T100659Z
URL:https://cm.newalbanychamber.com/events/details/oktoberfest-2008-200
END:VEVENT

END:VCALENDAR
