BEGIN:VCALENDAR
VERSION:2.0
PRODID:-//ChamberMaster//Event Calendar 2.0//EN
METHOD:PUBLISH
X-PUBLISHED-TTL:P3D
REFRESH-INTERVAL:P3D
CALSCALE:GREGORIAN
BEGIN:VEVENT
DTSTART:20091003T160000Z
DTEND:20091004T030000Z
X-MICROSOFT-CDO-ALLDAYEVENT:FALSE
SUMMARY:Oktoberfest 2009
DESCRIPTION:Market Square in New Albany\n\nLocated just off of Market Square\, between Old St. Rt. 161 and Rt. 62.\n\n \n\nFood\, Beer Garden\, Big Ten Football playing on large TV Screens\, activities for children\, and live entertainment will highlight the New Albany Oktoberfest in the heart of New Albany.
X-ALT-DESC;FMTTYPE=text/html:<div>Market Square in New Albany</div>\n\n<div>Located just off of Market Square\, between Old St. Rt. 161 and Rt. 62.</div>\n\n<div>&nbsp\;</div>\n\n<div>Food\, Beer Garden\, Big Ten Football playing on large TV Screens\, activities for children\, and live entertainment will highlight the New Albany Oktoberfest in the heart of New Albany.</div>\n
LOCATION:Market Square
UID:e.304.314
SEQUENCE:3
DTSTAMP:20260421T155708Z
URL:https://cm.newalbanychamber.com/events/details/oktoberfest-2009-314
END:VEVENT

END:VCALENDAR
