BEGIN:VCALENDAR
VERSION:2.0
PRODID:-//ChamberMaster//Event Calendar 2.0//EN
METHOD:PUBLISH
X-PUBLISHED-TTL:P3D
REFRESH-INTERVAL:P3D
CALSCALE:GREGORIAN
BEGIN:VEVENT
DTSTART:20110305T150000Z
DTEND:20110305T190000Z
X-MICROSOFT-CDO-ALLDAYEVENT:FALSE
SUMMARY:Open House
DESCRIPTION:Kumon Math and Reading Center of New Albany is having an Open House event on March\, 5th 2011.\n\n\n\nFamilies and students are invited to attend an Educational Open House event on Saturday\, March 5th from 10AM-2PM.  The enrollment fee for that day is WAIVED and students are invited to participate in a read aloud session while families learn about Kumon.
X-ALT-DESC;FMTTYPE=text/html:Kumon Math and Reading Center of New Albany is having an Open House event on March\, 5th 2011.\n<br>\n<br>Families and students are invited to attend an Educational Open House event on Saturday\, March 5th from 10AM-2PM.  The enrollment fee for that day is WAIVED and students are invited to participate in a read aloud session while families learn about Kumon.
LOCATION:5187 Hampsted Village Center Way\, New Albany OH 43054
UID:e.304.766
SEQUENCE:3
DTSTAMP:20260420T130204Z
URL:https://cm.newalbanychamber.com/events/details/open-house-03-05-2011-766
END:VEVENT

END:VCALENDAR
