BEGIN:VCALENDAR
VERSION:2.0
PRODID:-//ChamberMaster//Event Calendar 2.0//EN
METHOD:PUBLISH
X-PUBLISHED-TTL:P3D
REFRESH-INTERVAL:P3D
CALSCALE:GREGORIAN
BEGIN:VEVENT
DTSTART:20260416T140000Z
DTEND:20260416T180000Z
X-MICROSOFT-CDO-ALLDAYEVENT:FALSE
SUMMARY:Open House at PERRY proTECH
DESCRIPTION:PERRY proTECH hosts Printing Money   an open-house style event all about how strategic print marketing is driving real\, measurable ROI for businesses right here in our community. Thursday\, April 16th Open House | 10:00 AM   2:00 PM\n\nHere's what you can expect:\n\n Real examples of print delivering ROI\n\n  Live demos of PERRY proTECH print solutions\n\n  Great food & refreshments\n\n  Networking with local professionals\n\n\n\nPrint isn't just an expense   it's an investment. And when it's done right\, it truly can start printing money for your business.
X-ALT-DESC;FMTTYPE=text/html:PERRY proTECH hosts Printing Money &mdash\; an open-house style event all about how strategic print marketing is driving real\, measurable ROI for businesses right here in our community. Thursday\, April 16th Open House | 10:00 AM &ndash\; 2:00 PM<br />\nHere&rsquo\;s what you can expect:<br />\n&bull\;Real examples of print delivering ROI<br />\n&bull\; Live demos of PERRY proTECH print solutions<br />\n&bull\; Great food &amp\; refreshments<br />\n&bull\; Networking with local professionals<br />\n<br />\nPrint isn&rsquo\;t just an expense &mdash\; it&rsquo\;s an investment. And when it&rsquo\;s done right\, it truly can start printing money for your business.
LOCATION:60 Collegeview Rd Westerville\, OH 43081
UID:e.304.21945
SEQUENCE:3
DTSTAMP:20260420T094957Z
URL:https://cm.newalbanychamber.com/events/details/open-house-at-perry-protech-21945
END:VEVENT

END:VCALENDAR
