BEGIN:VCALENDAR
VERSION:2.0
PRODID:-//ChamberMaster//Event Calendar 2.0//EN
METHOD:PUBLISH
X-PUBLISHED-TTL:P3D
REFRESH-INTERVAL:P3D
CALSCALE:GREGORIAN
BEGIN:VEVENT
DTSTART;VALUE=DATE:20091112
DTEND;VALUE=DATE:20091116
TRANSP:TRANSPARENT
X-MICROSOFT-CDO-ALLDAYEVENT:TRUE
SUMMARY:Out of the Ordinary Holiday Open House
DESCRIPTION:Out of the Ordinary invites you to come to their Holiday Open House from Thursday\, November 12th\, until Sunday\, November 15th. There will 10% off Christmas & Hannukah gifts\, 25% off Fall & Thanksgiving gifts\, as well as refreshments and daily door prizes. Out of the Ordinary is located in the Kroger Center on New Albany Road\, 43054. For more information call 614-855-3807.Out of the Ordinary also invites you to attend to their Preview Open House. This event will be held from Thursday\, November 5th\, until Sunday\, November 8th.Some hot items of theirs are Coffee to Go Candles\, CoverTiques\, Mismatched Socks\, Pouchees\, Pretty Tolls and\, of course\, New Albany & OSU ornaments!
X-ALT-DESC;FMTTYPE=text/html:<div>Out of the Ordinary invites you to come to their Holiday Open House from Thursday\, November 12th\, until Sunday\, November 15th. There will 10% off Christmas &amp\; Hannukah gifts\, 25% off Fall &amp\; Thanksgiving gifts\, as well as refreshments and daily door prizes. Out of the Ordinary is located in the Kroger Center on New Albany Road\, 43054. For more information call 614-855-3807.</div><div>Out of the Ordinary also invites you to attend to their Preview Open House. This event will be held from Thursday\, November 5th\, until Sunday\, November 8th.</div><div>Some hot items of theirs are Coffee to Go Candles\, <em>CoverTiques</em>\, Mismatched Socks\, Pouchees\, Pretty Tolls and\, of course\, New Albany &amp\; OSU ornaments!</div>
LOCATION:
UID:e.304.538
SEQUENCE:3
DTSTAMP:20260421T160652Z
URL:https://cm.newalbanychamber.com/events/details/out-of-the-ordinary-holiday-open-house-11-12-2009-538
END:VEVENT

END:VCALENDAR
