BEGIN:VCALENDAR
VERSION:2.0
PRODID:-//ChamberMaster//Event Calendar 2.0//EN
METHOD:PUBLISH
X-PUBLISHED-TTL:P3D
REFRESH-INTERVAL:P3D
CALSCALE:GREGORIAN
BEGIN:VEVENT
DTSTART:20080425T150000Z
DTEND:20080425T170000Z
X-MICROSOFT-CDO-ALLDAYEVENT:FALSE
SUMMARY:Painting Class sponsored by NAWN
DESCRIPTION:Painting Class sponsored by the New Albany Women's Network at the New Albany Branch Library\, 200 Market Street. New Albany resident Renon Hulet will teach a hand's on painting class\, as well as art instruction\, box lunch to be served.  RSVP to Sarah Ryan at 933-0908 or sarahryan@insight.rr.com by April 22nd.
X-ALT-DESC;FMTTYPE=text/html:Painting Class sponsored by the New Albany Women's Network at the New Albany Branch Library\, 200 Market Street. New Albany resident Renon Hulet will teach a hand's on painting class\, as well as art instruction\, box lunch to be served.  RSVP to Sarah Ryan at 933-0908 or sarahryan@insight.rr.com by April 22nd.
LOCATION:New Albany Branch Library 200 Market Street
UID:e.304.221
SEQUENCE:3
DTSTAMP:20260422T185133Z
URL:https://cm.newalbanychamber.com/events/details/painting-class-sponsored-by-nawn-04-25-2008-221
END:VEVENT

END:VCALENDAR
