BEGIN:VCALENDAR
VERSION:2.0
PRODID:-//ChamberMaster//Event Calendar 2.0//EN
METHOD:PUBLISH
X-PUBLISHED-TTL:P3D
REFRESH-INTERVAL:P3D
CALSCALE:GREGORIAN
BEGIN:VEVENT
DTSTART;VALUE=DATE:20100724
DTEND;VALUE=DATE:20100809
TRANSP:TRANSPARENT
X-MICROSOFT-CDO-ALLDAYEVENT:TRUE
SUMMARY:Parade of Homes 2010
DESCRIPTION:Parade of Homes 2010New Albany Ackerly Parkwww.biaparade.com Mon-Thurs. Noon-9 p.m. Fri. 10a.m. - 9 p.m.Sat. 10 a.m.- 9 p.m.Sun. 10 a.m.- 6 p.m. 8 Beautiful homes to tour.  Some featuring family resource rooms\, finished lower levels\, bonus studios & suites\, gracious outdoor lving areas\, wine cellars\, gourmet kitchens & more.
X-ALT-DESC;FMTTYPE=text/html:<div><strong><span style="font-size: x-small">Parade of Homes 2010</span></strong></div><div><strong><span style="font-size: x-small">New Albany Ackerly Park</span></strong></div><div><a href="http://www.biaparade.com">www.biaparade.com</a></div><div>&nbsp\;</div><div><span style="font-size: x-small">Mon-Thurs. Noon-9 p.m.&nbsp\;</span></div><div><span style="font-size: x-small">Fri. 10a.m. - 9 p.m.</span></div><div><span style="font-size: x-small">Sat.&nbsp\;10 a.m.- 9 p.m.</span></div><div><span style="font-size: x-small">Sun. 10 a.m.- 6 p.m.</span></div><div>&nbsp\;</div><div><em>8 Beautiful homes to tour.&nbsp\; Some featuring family resource rooms\, finished lower levels\, bonus studios &amp\; suites\, gracious outdoor lving areas\, wine cellars\, gourmet kitchens &amp\; more.</em></div>
LOCATION:
UID:e.304.478
SEQUENCE:3
DTSTAMP:20260421T002900Z
URL:https://cm.newalbanychamber.com/events/details/parade-of-homes-2010-07-24-2010-478
END:VEVENT

END:VCALENDAR
