BEGIN:VCALENDAR
VERSION:2.0
PRODID:-//ChamberMaster//Event Calendar 2.0//EN
METHOD:PUBLISH
X-PUBLISHED-TTL:P3D
REFRESH-INTERVAL:P3D
CALSCALE:GREGORIAN
BEGIN:VEVENT
DTSTART;VALUE=DATE:20090408
DTEND;VALUE=DATE:20090409
TRANSP:TRANSPARENT
X-MICROSOFT-CDO-ALLDAYEVENT:TRUE
SUMMARY:Passover Begins at Sundown
DESCRIPTION:
X-ALT-DESC;FMTTYPE=text/html:
LOCATION:
UID:e.304.306
SEQUENCE:3
DTSTAMP:20260422T022406Z
URL:https://cm.newalbanychamber.com/events/details/passover-begins-at-sundown-04-08-2009-306
END:VEVENT

END:VCALENDAR
