BEGIN:VCALENDAR
VERSION:2.0
PRODID:-//ChamberMaster//Event Calendar 2.0//EN
METHOD:PUBLISH
X-PUBLISHED-TTL:P3D
REFRESH-INTERVAL:P3D
CALSCALE:GREGORIAN
BEGIN:VEVENT
DTSTART:20110323T184500Z
DTEND:20110323T193000Z
X-MICROSOFT-CDO-ALLDAYEVENT:FALSE
SUMMARY:Peace Week Walk/Run Training Program
DESCRIPTION:Ultimate U Total Health's FREE Walk/Run Training Program for those who plan on participating in the New Albany High School Peace Week Run/Walk on April 20\, 2011.
X-ALT-DESC;FMTTYPE=text/html:Ultimate U Total Health's FREE Walk/Run Training Program for those who plan on participating in the New Albany High School Peace Week Run/Walk on April 20\, 2011.
LOCATION:New Albany High School\, Building K Entrance
UID:e.304.778
SEQUENCE:3
DTSTAMP:20260420T130051Z
URL:https://cm.newalbanychamber.com/events/details/peace-week-walk-run-training-program-03-23-2011-778
END:VEVENT

END:VCALENDAR
