BEGIN:VCALENDAR
VERSION:2.0
PRODID:-//ChamberMaster//Event Calendar 2.0//EN
METHOD:PUBLISH
X-PUBLISHED-TTL:P3D
REFRESH-INTERVAL:P3D
CALSCALE:GREGORIAN
BEGIN:VEVENT
DTSTART:20110324T194500Z
DTEND:20110324T203000Z
X-MICROSOFT-CDO-ALLDAYEVENT:FALSE
SUMMARY:Peace Week Walk/Run Training Program
DESCRIPTION:Ultimate U Total Health's Free Peace Week Walk/Run Training Program for those who plan on participating in the New Albany High School Peace Week Run/Walk on April 20\, 2011.
X-ALT-DESC;FMTTYPE=text/html:Ultimate U Total Health's Free Peace Week Walk/Run Training Program for those who plan on participating in the New Albany High School Peace Week Run/Walk on April 20\, 2011.
LOCATION:New Albany 2 - 5 Elementary School Building\, 2 - 3 Parent Pick-Up Loop
UID:e.304.779
SEQUENCE:3
DTSTAMP:20260420T141221Z
URL:https://cm.newalbanychamber.com/events/details/peace-week-walk-run-training-program-03-24-2011-779
END:VEVENT

END:VCALENDAR
