BEGIN:VCALENDAR
VERSION:2.0
PRODID:-//ChamberMaster//Event Calendar 2.0//EN
METHOD:PUBLISH
X-PUBLISHED-TTL:P3D
REFRESH-INTERVAL:P3D
CALSCALE:GREGORIAN
BEGIN:VEVENT
DTSTART;VALUE=DATE:20100820
DTEND;VALUE=DATE:20100823
TRANSP:TRANSPARENT
X-MICROSOFT-CDO-ALLDAYEVENT:TRUE
SUMMARY:Pelotonia 2010
DESCRIPTION:Pelotonia invites you to their tenth annual bike tour. They have one goal: to end cancer. Pelotonia raises money fo innovative and life saving cancer research at The Ohio Sate University Comprehensive Cancer Center - James Cancer Hospital and Solove Research Institute. Pelotonia directs 100% of every dollar raised to reaserch. This cycling event is set for August 20th until 22th of 2010. Registration opens on December 1sth of 2009\; which can be found on their website. For more information visit www.pelotonia.org.
X-ALT-DESC;FMTTYPE=text/html:<div>Pelotonia invites you to their tenth annual bike tour. They have&nbsp\;one goal: to end cancer. Pelotonia raises money fo innovative and life saving cancer research at The Ohio Sate University Comprehensive Cancer Center - James Cancer&nbsp\;Hospital and Solove Research Institute. Pelotonia directs 100% of every dollar raised to reaserch. This cycling event is set for August 20th until 22th of 2010. Registration opens on December 1sth of 2009\; which can be found on&nbsp\;their website.&nbsp\;For more information visit <a href="http://www.pelotonia.org">www.pelotonia.org</a>.</div>
LOCATION:
UID:e.304.548
SEQUENCE:3
DTSTAMP:20260421T002732Z
URL:https://cm.newalbanychamber.com/events/details/pelotonia-2010-08-20-2010-548
END:VEVENT

END:VCALENDAR
