BEGIN:VCALENDAR
VERSION:2.0
PRODID:-//ChamberMaster//Event Calendar 2.0//EN
METHOD:PUBLISH
X-PUBLISHED-TTL:P3D
REFRESH-INTERVAL:P3D
CALSCALE:GREGORIAN
BEGIN:VEVENT
DTSTART:20100410T180000Z
DTEND:20100410T200000Z
X-MICROSOFT-CDO-ALLDAYEVENT:FALSE
SUMMARY:Personal Safety & Defense Demonstration
DESCRIPTION:Nancy Evans with New Age Crimestoppers will be here to show us some very interesting and very inexpensive ways to stay safe. The Worthington in Gahanna1201 Riva Ridge Ct.Gahanna\, Ohio 2:00 p.m.
X-ALT-DESC;FMTTYPE=text/html:<div><strong><span style="font-size: x-small">Nancy Evans with New Age Crimestoppers will be here to show us some very interesting and very inexpensive ways to stay safe.</span></strong></div><div>&nbsp\;</div><div><strong><span style="font-size: x-small">The Worthington in Gahanna</span></strong></div><div><strong><span style="font-size: x-small">1201 Riva Ridge Ct.</span></strong></div><div><strong><span style="font-size: x-small">Gahanna\, Ohio</span></strong></div><div>&nbsp\;</div><div><strong><span style="font-size: x-small">2:00 p.m.</span></strong></div>
LOCATION:
UID:e.304.626
SEQUENCE:3
DTSTAMP:20260421T071851Z
URL:https://cm.newalbanychamber.com/events/details/personal-safety-defense-demonstration-04-10-2010-626
END:VEVENT

END:VCALENDAR
