BEGIN:VCALENDAR
VERSION:2.0
PRODID:-//ChamberMaster//Event Calendar 2.0//EN
METHOD:PUBLISH
X-PUBLISHED-TTL:P3D
REFRESH-INTERVAL:P3D
CALSCALE:GREGORIAN
BEGIN:VEVENT
DTSTART:20250402T223000Z
DTEND:20250403T003000Z
X-MICROSOFT-CDO-ALLDAYEVENT:FALSE
SUMMARY:Plain Township Board of Trustees Meeting
DESCRIPTION:The Plain Township Board of Trustees meets on the first Wednesday of the month at 6:30pm and the third Wednesday of the month at 8am unless otherwise noted.  All township board meetings will be held in person at the Plain Township Fire Station unless otherwise noted.
X-ALT-DESC;FMTTYPE=text/html:<br />\nThe Plain Township Board of Trustees meets on the first Wednesday of the month at 6:30pm and the third Wednesday of the month at 8am unless otherwise noted.&nbsp\; All township board meetings will be held in person at the Plain Township Fire Station unless otherwise noted.
LOCATION:Plain Township Fire Station 9500 Johnstown Rd New Albany\, OH 43054
UID:e.304.20650
SEQUENCE:3
DTSTAMP:20260420T113753Z
URL:https://cm.newalbanychamber.com/events/details/plain-township-board-of-trustees-meeting-04-02-2025-20650
END:VEVENT

END:VCALENDAR
