BEGIN:VCALENDAR
VERSION:2.0
PRODID:-//ChamberMaster//Event Calendar 2.0//EN
METHOD:PUBLISH
X-PUBLISHED-TTL:P3D
REFRESH-INTERVAL:P3D
CALSCALE:GREGORIAN
BEGIN:VEVENT
DTSTART;VALUE=DATE:20091004
DTEND;VALUE=DATE:20091005
TRANSP:TRANSPARENT
X-MICROSOFT-CDO-ALLDAYEVENT:TRUE
SUMMARY:Plain Township Fire Dept. Open House (Fire Prevention Week)
DESCRIPTION:Fire Department Open HousePlain township Fire Station9500 Johnstown Road Celebration of Fire Prevention Month
X-ALT-DESC;FMTTYPE=text/html:<div>Fire Department Open House</div><div>Plain township Fire Station</div><div>9500 Johnstown Road</div><div>&nbsp\;</div><div>Celebration of Fire Prevention Month</div>
LOCATION:9500 Johnstown RoadNew Albany\, Ohio
UID:e.304.378
SEQUENCE:3
DTSTAMP:20260421T155923Z
URL:https://cm.newalbanychamber.com/events/details/plain-township-fire-dept-open-house-fire-prevention-week-10-04-2009-378
END:VEVENT

END:VCALENDAR
