BEGIN:VCALENDAR
VERSION:2.0
PRODID:-//ChamberMaster//Event Calendar 2.0//EN
METHOD:PUBLISH
X-PUBLISHED-TTL:P3D
REFRESH-INTERVAL:P3D
CALSCALE:GREGORIAN
BEGIN:VEVENT
DTSTART;VALUE=DATE:20090506
DTEND;VALUE=DATE:20090507
TRANSP:TRANSPARENT
X-MICROSOFT-CDO-ALLDAYEVENT:TRUE
SUMMARY:Plain Township Trustee Meeting at 7pm
DESCRIPTION:
X-ALT-DESC;FMTTYPE=text/html:
LOCATION:
UID:e.304.341
SEQUENCE:3
DTSTAMP:20260421T232540Z
URL:https://cm.newalbanychamber.com/events/details/plain-township-trustee-meeting-at-7pm-05-06-2009-341
END:VEVENT

END:VCALENDAR
