BEGIN:VCALENDAR
VERSION:2.0
PRODID:-//ChamberMaster//Event Calendar 2.0//EN
METHOD:PUBLISH
X-PUBLISHED-TTL:P3D
REFRESH-INTERVAL:P3D
CALSCALE:GREGORIAN
BEGIN:VEVENT
DTSTART;VALUE=DATE:20091007
DTEND;VALUE=DATE:20091008
TRANSP:TRANSPARENT
X-MICROSOFT-CDO-ALLDAYEVENT:TRUE
SUMMARY:Plain Township Trustee's Meeting at 7pm
DESCRIPTION:
X-ALT-DESC;FMTTYPE=text/html:
LOCATION:
UID:e.304.381
SEQUENCE:3
DTSTAMP:20260421T160117Z
URL:https://cm.newalbanychamber.com/events/details/plain-township-trustee-s-meeting-at-7pm-10-07-2009-381
END:VEVENT

END:VCALENDAR
