BEGIN:VCALENDAR
VERSION:2.0
PRODID:-//ChamberMaster//Event Calendar 2.0//EN
METHOD:PUBLISH
X-PUBLISHED-TTL:P3D
REFRESH-INTERVAL:P3D
CALSCALE:GREGORIAN
BEGIN:VEVENT
DTSTART:20090423T223000Z
DTEND:20090424T010000Z
X-MICROSOFT-CDO-ALLDAYEVENT:FALSE
SUMMARY:Playing from the Heart
DESCRIPTION:Playing from the Heart Concert
X-ALT-DESC;FMTTYPE=text/html:<div>Playing from the Heart Concert</div>
LOCATION:McCoy Center in New Albany
UID:e.304.440
SEQUENCE:3
DTSTAMP:20260422T004510Z
URL:https://cm.newalbanychamber.com/events/details/playing-from-the-heart-04-23-2009-440
END:VEVENT

END:VCALENDAR
