BEGIN:VCALENDAR
VERSION:2.0
PRODID:-//ChamberMaster//Event Calendar 2.0//EN
METHOD:PUBLISH
X-PUBLISHED-TTL:P3D
REFRESH-INTERVAL:P3D
CALSCALE:GREGORIAN
BEGIN:VEVENT
DTSTART;VALUE=DATE:20090331
DTEND;VALUE=DATE:20090401
TRANSP:TRANSPARENT
X-MICROSOFT-CDO-ALLDAYEVENT:TRUE
SUMMARY:Pool Membership Early Bird Sale Ends
DESCRIPTION:
X-ALT-DESC;FMTTYPE=text/html:
LOCATION:
UID:e.304.300
SEQUENCE:3
DTSTAMP:20260422T022900Z
URL:https://cm.newalbanychamber.com/events/details/pool-membership-early-bird-sale-ends-03-31-2009-300
END:VEVENT

END:VCALENDAR
