BEGIN:VCALENDAR
VERSION:2.0
PRODID:-//ChamberMaster//Event Calendar 2.0//EN
METHOD:PUBLISH
X-PUBLISHED-TTL:P3D
REFRESH-INTERVAL:P3D
CALSCALE:GREGORIAN
BEGIN:VEVENT
DTSTART:20110212T193000Z
DTEND:20110212T213000Z
X-MICROSOFT-CDO-ALLDAYEVENT:FALSE
SUMMARY:Popovich\, Comedy Pet Theater
DESCRIPTION:The World Famous Popovich Comedy Pet Theater is a family-oriented blend of the unique comedy and juggling skills of Gregory Popovich\, and the extraordinary talents of his performing pets. Each of the showâ??s 15 cats and 10 dogs were once strays\, rescued from animal shelters. Now\, they love to show off onstage â?? by performing a variety of stunts and skits! Audiences will be delighted to see this extravaganza of European-style clowns\, amazing juggling and balancing acts\, and of course\, very talented performing pets. Itâ??s a show that both adults and kids of all ages enjoy! Please note that there will be 2 shows\, one at 2:30pm and another one at 8:00pm. Visit http://www.mccoycenter.org for more information.
X-ALT-DESC;FMTTYPE=text/html:The World Famous Popovich Comedy Pet Theater is a family-oriented blend of the unique comedy and juggling skills of Gregory Popovich\, and the extraordinary talents of his performing pets. Each of the showâ??s 15 cats and 10 dogs were once strays\, rescued from animal shelters. Now\, they love to show off onstage â?? by performing a variety of stunts and skits! Audiences will be delighted to see this extravaganza of European-style clowns\, amazing juggling and balancing acts\, and of course\, very talented performing pets. Itâ??s a show that both adults and kids of all ages enjoy! Please note that there will be 2 shows\, one at 2:30pm and another one at 8:00pm. Visit http://www.mccoycenter.org for more information.\n<br>
LOCATION:Jeanne B. McCoy Community Center for the Arts located at 100 W. Dublin-Granville Road New Albany\, OH 43054
UID:e.304.702
SEQUENCE:3
DTSTAMP:20260420T144306Z
URL:https://cm.newalbanychamber.com/events/details/popovich-comedy-pet-theater-02-12-2011-702
END:VEVENT

END:VCALENDAR
