BEGIN:VCALENDAR
VERSION:2.0
PRODID:-//ChamberMaster//Event Calendar 2.0//EN
METHOD:PUBLISH
X-PUBLISHED-TTL:P3D
REFRESH-INTERVAL:P3D
CALSCALE:GREGORIAN
BEGIN:VEVENT
DTSTART;VALUE=DATE:20091107
DTEND;VALUE=DATE:20091108
TRANSP:TRANSPARENT
X-MICROSOFT-CDO-ALLDAYEVENT:TRUE
SUMMARY:Powerco Credit Union Grand Opening!
DESCRIPTION:Powerco Credit Union invites you to their Grand Opening Tailgate Party on Saturday\, November 7\, from 9:00 am until 1:00 pm. This celebration will be held at their new office on 5665 N. Hamilton Road of Columbus. You will have the chance to win 1\,000 dollars in cash! For more information contact Ron Wolf at 614-416-7558 ext.116 or visit www.powercocu.org.
X-ALT-DESC;FMTTYPE=text/html:<div>Powerco Credit Union invites you to their Grand Opening Tailgate Party on Saturday\, November 7\, from 9:00 am until 1:00 pm. This celebration will be held at their new office on 5665 N. Hamilton Road of Columbus. You will have the chance to win 1\,000 dollars in cash! For more information contact Ron Wolf at 614-416-7558 ext.116 or visit <a href="http://www.powercocu.org">www.powercocu.org</a>.</div>
LOCATION:
UID:e.304.526
SEQUENCE:3
DTSTAMP:20260421T144018Z
URL:https://cm.newalbanychamber.com/events/details/powerco-credit-union-grand-opening-11-07-2009-526
END:VEVENT

END:VCALENDAR
