BEGIN:VCALENDAR
VERSION:2.0
PRODID:-//ChamberMaster//Event Calendar 2.0//EN
METHOD:PUBLISH
X-PUBLISHED-TTL:P3D
REFRESH-INTERVAL:P3D
CALSCALE:GREGORIAN
BEGIN:VEVENT
DTSTART:20250423T213000Z
DTEND:20250423T230000Z
X-MICROSOFT-CDO-ALLDAYEVENT:FALSE
SUMMARY:PowerConneX II Public Information Meeting
DESCRIPTION:The PowerConneX II New Albany Energy Center project is a natural gas fired electric generation facility being proposed by PowerConneX\, Inc. to be located in New Albany\, Licking County\, Ohio.  The PowerConneX II New Albany Energy Center project will hold its first public information meeting on April 23\, 2025 from 5:30pm-7:00pm at Brick House Blue\, 7775 Walton Parkway\, New Albany\, in order to provide the public with an opportunity to become informed about the Project and ask questions.  Information addressing the facility will be made available through an open house\, posterboard session format.  Attendees may arrive anytime between 5:30pm to 7:00pm to engage with Company representatives on hand to answer questions and solicit comments regarding the facility.\n\n\n\nIf you have any questions\, you may contact a member of the PowerConneX development team at (703) 935-1980 and pcxenergynewalbany@edgeconnex.com.
X-ALT-DESC;FMTTYPE=text/html:The PowerConneX II New Albany Energy Center project is a natural gas fired electric generation facility being proposed by PowerConneX\, Inc. to be located in New Albany\, Licking County\, Ohio.&nbsp\; The PowerConneX II New Albany Energy Center project will hold its first public information meeting on April 23\, 2025 from 5:30pm-7:00pm at Brick House Blue\, 7775 Walton Parkway\, New Albany\, in order to provide the public with an opportunity to become informed about the Project and ask questions.&nbsp\; Information addressing the facility will be made available through an open house\, posterboard session format.&nbsp\; Attendees may arrive anytime between 5:30pm to 7:00pm to engage with Company representatives on hand to answer questions and solicit comments regarding the facility.<br />\n<br />\nIf you have any questions\, you may contact a member of the PowerConneX development team at (703) 935-1980 and pcxenergynewalbany@edgeconnex.com.
LOCATION:Brick House Blue 7775 Walton Parkway New Albany\, OH 43054
UID:e.304.20368
SEQUENCE:3
DTSTAMP:20260420T113603Z
URL:https://cm.newalbanychamber.com/events/details/powerconnex-ii-public-information-meeting-20368
END:VEVENT

END:VCALENDAR
