BEGIN:VCALENDAR
VERSION:2.0
PRODID:-//ChamberMaster//Event Calendar 2.0//EN
METHOD:PUBLISH
X-PUBLISHED-TTL:P3D
REFRESH-INTERVAL:P3D
CALSCALE:GREGORIAN
BEGIN:VEVENT
DTSTART:20110105T150000Z
DTEND:20110108T220000Z
X-MICROSOFT-CDO-ALLDAYEVENT:FALSE
SUMMARY:Prairie House After Christmas Sale
DESCRIPTION:Prairie House After Christmas Sale\n\nJan. 5th - 8th\n\n10 a.m. - 5 p.m.
X-ALT-DESC;FMTTYPE=text/html:<strong><span style="font-size: 12px">Prairie House After Christmas Sale<br />\nJan. 5th - 8th<br />\n10 a.m. - 5 p.m.</span></strong>
LOCATION:
UID:e.304.726
SEQUENCE:3
DTSTAMP:20260420T162559Z
URL:https://cm.newalbanychamber.com/events/details/prairie-house-after-christmas-sale-01-05-2011-726
END:VEVENT

END:VCALENDAR
