BEGIN:VCALENDAR
VERSION:2.0
PRODID:-//ChamberMaster//Event Calendar 2.0//EN
METHOD:PUBLISH
X-PUBLISHED-TTL:P3D
REFRESH-INTERVAL:P3D
CALSCALE:GREGORIAN
BEGIN:VEVENT
DTSTART;VALUE=DATE:20091105
DTEND;VALUE=DATE:20091106
TRANSP:TRANSPARENT
X-MICROSOFT-CDO-ALLDAYEVENT:TRUE
SUMMARY:PRISM's Digital Marketing Series\, -Postponed until November 12th
DESCRIPTION:This event has been combined with the November 12th Topic.  Feel free to call the chamber for details. PRISM Marketing Communications invites you to the first of their Digital Marketing Series\, Create: A Marketing Plan for the Digital World\, on Thursday\, November 5th\, from 8:00 until 9:30am. This session will be an introduction to marketing strategic planning for the digital world and the to learn how to get started putting together your plan. It will be held at PRISM Marketing on 5031 Forest Drive\, Suite A\, in New Albany\, 40354.Sessions are $25 each and benefit the Chamber's Technology Fund. Register with the New Albany Chamber at 614-855-4400 or online at www.newalbanchamber.com.For more information call PRISM Marketing Communications at 614-939-2510.
X-ALT-DESC;FMTTYPE=text/html:<div>This event has been combined with the November 12th Topic.&nbsp\; Feel free to call the chamber for details.</div><div>&nbsp\;</div><div>PRISM Marketing Communications invites you to the first of their Digital Marketing Series\, Create: A Marketing Plan for the Digital World\, on Thursday\, November 5th\, from 8:00 until 9:30am. This session will be an introduction to marketing strategic planning for the digital world and the to learn how to get started putting together your plan. It will be held at PRISM Marketing on 5031 Forest Drive\, Suite A\, in New Albany\, 40354.</div><div><div>Sessions are $25 each and benefit the Chamber&rsquo\;s Technology Fund. Register with the New Albany Chamber at 614-855-4400 or online at <a href="http://www.newalbanchamber.com/">www.newalbanchamber.com</a>.</div><div>For more information call PRISM Marketing Communications at 614-939-2510.</div></div>
LOCATION:
UID:e.304.509
SEQUENCE:3
DTSTAMP:20260421T153306Z
URL:https://cm.newalbanychamber.com/events/details/prism-s-digital-marketing-series-postponed-until-november-12th-11-05-2009-509
END:VEVENT

END:VCALENDAR
