BEGIN:VCALENDAR
VERSION:2.0
PRODID:-//ChamberMaster//Event Calendar 2.0//EN
METHOD:PUBLISH
X-PUBLISHED-TTL:P3D
REFRESH-INTERVAL:P3D
CALSCALE:GREGORIAN
BEGIN:VEVENT
DTSTART;VALUE=DATE:20100107
DTEND;VALUE=DATE:20100108
TRANSP:TRANSPARENT
X-MICROSOFT-CDO-ALLDAYEVENT:TRUE
SUMMARY:PRISM's Digital Marketing Series\, Session 3
DESCRIPTION:PRISM Marketing Communications invites you to the third of their Digital Marketing Series\, Explore: New-Age Marketing Tools\, on Thursday\, January 7th\, from 8:00 until 9:30am. This session will be a how-to session that will help you stay current with the latest digital marketing tools. Also\, we'll address how to measure efforts\, identifying ongoing opportunities and success. It will be held at the New Albany Chamber of Commerce on 220 Market Street\, Suite 204\, in New Albany\, 40354. Sessions are $25 each and benefit the Chamber's Technology Fund. Register with the New Albany Chamber at 614-855-4400 or online at www.newalbanchamber.com.For more information call PRISM Marketing Communications at 614-939-2510.
X-ALT-DESC;FMTTYPE=text/html:<div><div>PRISM Marketing Communications invites you to the third of their Digital Marketing Series\, Explore: New-Age Marketing&nbsp\;Tools\, on Thursday\, January 7th\, from 8:00 until 9:30am. This session will be a how-to session that will help you stay current with the latest digital marketing tools. Also\, we&rsquo\;ll address how to measure efforts\, identifying ongoing opportunities and success. It will be held at the New Albany Chamber of Commerce on&nbsp\;220 Market Street\, Suite 204\,&nbsp\;in New Albany\, 40354. <div>Sessions are $25 each and benefit the Chamber's Technology Fund. Register with the New Albany Chamber at 614-855-4400 or online at <a href="http://www.newalbanchamber.com/">www.newalbanchamber.com</a>.</div><div>For more information call PRISM Marketing Communications at 614-939-2510.</div></div></div>
LOCATION:
UID:e.304.511
SEQUENCE:3
DTSTAMP:20260421T114148Z
URL:https://cm.newalbanychamber.com/events/details/prism-s-digital-marketing-series-session-3-01-07-2010-511
END:VEVENT

END:VCALENDAR
