BEGIN:VCALENDAR
VERSION:2.0
PRODID:-//ChamberMaster//Event Calendar 2.0//EN
METHOD:PUBLISH
X-PUBLISHED-TTL:P3D
REFRESH-INTERVAL:P3D
CALSCALE:GREGORIAN
BEGIN:VEVENT
DTSTART;VALUE=DATE:20100204
DTEND;VALUE=DATE:20100205
TRANSP:TRANSPARENT
X-MICROSOFT-CDO-ALLDAYEVENT:TRUE
SUMMARY:PRISM's Digital Marketing Series\, Session 5
DESCRIPTION:PRISM Marketing Communications invites you to the fifth of their Digital Marketing Series\, Teach: The Value of Digital Internally\, on Thursday\, February 4th\, from 8:00 until 9:30am. This session will be focused on digital education for the marketing manager\, in which they'll take a look at how to educate co-workers and superiors about the value of adopting these tools. It will be held at the New Albany Chamber of Commerce on 220 Market Street\, Suite 204\, in New Albany\, 40354. Sessions are $25 each and benefit the Chamber's Technology Fund. Register with the New Albany Chamber at 614-855-4400 or online at www.newalbanchamber.com.For more information call PRISM Marketing Communications at 614-939-2510.
X-ALT-DESC;FMTTYPE=text/html:<div><div>PRISM Marketing Communications invites you to the fifth of their Digital Marketing Series\,&nbsp\;Teach: The&nbsp\;Value of Digital Internally\,&nbsp\;on Thursday\, February 4th\, from 8:00 until 9:30am. This session will be&nbsp\;focused on digital education for the marketing manager\, in which they&rsquo\;ll take a look at how to educate co-workers and superiors about the value of adopting these tools. It will be held at the New Albany Chamber of Commerce on&nbsp\;220 Market Street\, Suite 204\,&nbsp\;in New Albany\, 40354. <div>Sessions are $25 each and benefit the Chamber's Technology Fund. Register with the New Albany Chamber at 614-855-4400 or online at <a href="http://www.newalbanchamber.com/">www.newalbanchamber.com</a>.</div><div>For more information call PRISM Marketing Communications at 614-939-2510.</div></div></div>
LOCATION:
UID:e.304.513
SEQUENCE:3
DTSTAMP:20260421T102648Z
URL:https://cm.newalbanychamber.com/events/details/prism-s-digital-marketing-series-session-5-02-04-2010-513
END:VEVENT

END:VCALENDAR
