BEGIN:VCALENDAR
VERSION:2.0
PRODID:-//ChamberMaster//Event Calendar 2.0//EN
METHOD:PUBLISH
X-PUBLISHED-TTL:P3D
REFRESH-INTERVAL:P3D
CALSCALE:GREGORIAN
BEGIN:VEVENT
DTSTART:20250518T150000Z
DTEND:20250518T170000Z
X-MICROSOFT-CDO-ALLDAYEVENT:FALSE
SUMMARY:Puppy Brunch Extravaganza
DESCRIPTION:Join us for a delightful morning at our brewery as we host a special puppy brunch experience with 4 pups you know and love! This is a perfect opportunity for families to enjoy a delightful brunch while creating unforgettable memories with their favorite characters. Stick around because we will have a performance by our furry friends and their human start around 12:15PM! Whether you're a long-time fan of these doggies or new to the fun\, this event promises a morning filled with joy\, laughter\, and plenty of puppy magic! Adults: You will receive one BrewDog headliner beer\, cider\, or mimosa with the purchase of your ticket. We didn't forget about you! Please bring your ID and have proof of ticket purchase ready. Check out our Eventbrite to learn more and buy tickets!
X-ALT-DESC;FMTTYPE=text/html:Join us for a delightful morning at our brewery as we host a special puppy brunch experience with 4 pups you know and love! This is a perfect opportunity for families to enjoy a delightful brunch while creating unforgettable memories with their favorite characters. Stick around because we will have a performance by our furry friends and their human start around 12:15PM! Whether you&#39\;re a long-time fan of these doggies or new to the fun\, this event promises a morning filled with joy\, laughter\, and plenty of puppy magic! Adults: You will receive one BrewDog headliner beer\, cider\, or mimosa with the purchase of your ticket. We didn&rsquo\;t forget about you! Please bring your ID and have proof of ticket purchase ready. Check out our Eventbrite to learn more and buy tickets!
LOCATION:BrewDog New Albany\, 97 E Dublin Granville Rd\, New Albany\, OH 43054
UID:e.304.20445
SEQUENCE:3
DTSTAMP:20260420T220143Z
URL:https://cm.newalbanychamber.com/events/details/puppy-brunch-extravaganza-20445
END:VEVENT

END:VCALENDAR
