BEGIN:VCALENDAR
VERSION:2.0
PRODID:-//ChamberMaster//Event Calendar 2.0//EN
METHOD:PUBLISH
X-PUBLISHED-TTL:P3D
REFRESH-INTERVAL:P3D
CALSCALE:GREGORIAN
BEGIN:VEVENT
DTSTART;VALUE=DATE:20081019
DTEND;VALUE=DATE:20081020
TRANSP:TRANSPARENT
X-MICROSOFT-CDO-ALLDAYEVENT:TRUE
SUMMARY:Purple Dog's Open House/Fundraiser for the Citizens for Humane Action
DESCRIPTION:Purple Dog Art Studios invties you to their open house/fundraiser to benefit the Citizens for Humane Action (CHA in Westerville) on Sunday\, October 19 from 1pm until 4pm. It will be held at the Purple Dog on 15 W. Main Street in New Albany\, 43054. There will be hotdogs for all\, Purple Dog Punch...contributions go to CHA\, a dog costume parade and\, of course\, a student art display. There will\, also\, be a raffeling of a pet portrait donated by Hayley Gallery. For more information contact Angela Powers at 614.271.9306.
X-ALT-DESC;FMTTYPE=text/html:<div>Purple Dog Art Studios invties you to their open house/fundraiser to benefit the Citizens for Humane Action (CHA in Westerville) on Sunday\, October 19 from 1pm until 4pm. It will be held at the Purple Dog on 15 W. Main Street in New Albany\, 43054. There will be hotdogs for all\, Purple Dog Punch...contributions go to CHA\,&nbsp\;a dog costume parade and\, of course\, a student art display. There will\, also\, be a raffeling of a pet portrait donated by Hayley Gallery. For more information contact Angela Powers at 614.271.9306.</div>
LOCATION:
UID:e.304.325
SEQUENCE:3
DTSTAMP:20260422T102515Z
URL:https://cm.newalbanychamber.com/events/details/purple-dog-s-open-house-fundraiser-for-the-citizens-for-humane-action-10-19-2008-325
END:VEVENT

END:VCALENDAR
