BEGIN:VCALENDAR
VERSION:2.0
PRODID:-//ChamberMaster//Event Calendar 2.0//EN
METHOD:PUBLISH
X-PUBLISHED-TTL:P3D
REFRESH-INTERVAL:P3D
CALSCALE:GREGORIAN
BEGIN:VEVENT
DTSTART:20110521T140000Z
DTEND:20110521T200000Z
X-MICROSOFT-CDO-ALLDAYEVENT:FALSE
SUMMARY:Purple Dog Studio Open House
DESCRIPTION:Purple Dog Studio will be holding an open house on Founder's Day.\n\nFree Art Activities for all children.
X-ALT-DESC;FMTTYPE=text/html:Purple Dog Studio will be holding an open house on Founder&#39\;s Day.<br />\nFree Art Activities for all children.
LOCATION:28 South High Street New Albany\, Ohio 43054
UID:e.304.805
SEQUENCE:3
DTSTAMP:20260420T101354Z
URL:https://cm.newalbanychamber.com/events/details/purple-dog-studio-open-house-05-21-2011-805
END:VEVENT

END:VCALENDAR
