BEGIN:VCALENDAR
VERSION:2.0
PRODID:-//ChamberMaster//Event Calendar 2.0//EN
METHOD:PUBLISH
X-PUBLISHED-TTL:P3D
REFRESH-INTERVAL:P3D
CALSCALE:GREGORIAN
BEGIN:VEVENT
DTSTART:20100705T160000Z
DTEND:20100709T160000Z
X-MICROSOFT-CDO-ALLDAYEVENT:FALSE
SUMMARY:Purple Dog Summer Camps
DESCRIPTION:Purple Dog Summer CampsJuly 5-9\, also additional camp dates are: July 12-16\, 19-23 and 26-30."Passport to the Art World".  Students can sign up atwww.purpledogart.com or call Angela at: 614-271-9306
X-ALT-DESC;FMTTYPE=text/html:<div>Purple Dog Summer Camps</div><div>July 5-9\, also additional camp dates are: July 12-16\, 19-23 and 26-30.</div><div>&quot\;Passport to the Art World&quot\;.&nbsp\; Students can sign up at</div><div><a href="http://www.purpledogart.com">www.purpledogart.com</a> or call Angela at: 614-271-9306</div>
LOCATION:
UID:e.304.624
SEQUENCE:3
DTSTAMP:20260421T032557Z
URL:https://cm.newalbanychamber.com/events/details/purple-dog-summer-camps-07-05-2010-624
END:VEVENT

END:VCALENDAR
