BEGIN:VCALENDAR
VERSION:2.0
PRODID:-//ChamberMaster//Event Calendar 2.0//EN
METHOD:PUBLISH
X-PUBLISHED-TTL:P3D
REFRESH-INTERVAL:P3D
CALSCALE:GREGORIAN
BEGIN:VEVENT
DTSTART:20091118T233000Z
DTEND:20091119T020000Z
X-MICROSOFT-CDO-ALLDAYEVENT:FALSE
SUMMARY:Remarkable Evening 2009
DESCRIPTION:Remarkable Evening\n\nfeaturing Presidential Historian and Author\n\nMichael Beschloss\n\n \n\nMichael Beschloss has written nine books on American Presidents.
X-ALT-DESC;FMTTYPE=text/html:<div>Remarkable Evening</div>\n\n<div>featuring Presidential Historian and Author</div>\n\n<div>Michael Beschloss</div>\n\n<div>&nbsp\;</div>\n\n<div>Michael Beschloss has written nine books on American Presidents.</div>\n
LOCATION:Party Barn at the Wexner Residence One Whitebarn Road New Albany
UID:e.304.496
SEQUENCE:3
DTSTAMP:20260421T143521Z
URL:https://cm.newalbanychamber.com/events/details/remarkable-evening-2009-496
END:VEVENT

END:VCALENDAR
