BEGIN:VCALENDAR
VERSION:2.0
PRODID:-//ChamberMaster//Event Calendar 2.0//EN
METHOD:PUBLISH
X-PUBLISHED-TTL:P3D
REFRESH-INTERVAL:P3D
CALSCALE:GREGORIAN
BEGIN:VEVENT
DTSTART;VALUE=DATE:20100502
DTEND;VALUE=DATE:20100503
TRANSP:TRANSPARENT
X-MICROSOFT-CDO-ALLDAYEVENT:TRUE
SUMMARY:Renate Burgyan-Fackler presents ''Transformations of Earth\, Sea & Sky'' showing.
DESCRIPTION:Hayley Gallery invites you to attend Renate Burgyan-Fackler's\, of Hebron\, "Transformation of Earth\, Sea & Sky" on Sunday\, May 2\, 2010\, from 1pm until 4pm. This event will be held at Hayley Gallery on 45 Second Street\, New Albany 43054.A suite of new works on bronze featuring birds in flight\, sea life and the spirit of humanity. The show continues through May 21\, 2010.For more information call 614-855-4856 or visit www.hayleygallery.com.
X-ALT-DESC;FMTTYPE=text/html:<div>Hayley Gallery invites you to attend Renate Burgyan-Fackler's\, of Hebron\, &quot\;Transformation of Earth\, Sea &amp\;&nbsp\;Sky&quot\; on Sunday\, May 2\, 2010\, from 1pm until 4pm. This event will be held at Hayley Gallery on 45 Second Street\, New Albany 43054.</div><div>A suite of new works on bronze featuring birds in flight\, sea life and the spirit of humanity. The show continues through May 21\, 2010.</div><div>For more information call 614-855-4856 or visit <a href="http://www.hayleygallery.com">www.hayleygallery.com</a>.</div>
LOCATION:45 Second StreetNew Albany\, Ohio 43054
UID:e.304.614
SEQUENCE:3
DTSTAMP:20260421T053728Z
URL:https://cm.newalbanychamber.com/events/details/renate-burgyan-fackler-presents-transformations-of-earth-sea-sky-showing-05-02-2010-614
END:VEVENT

END:VCALENDAR
