BEGIN:VCALENDAR
VERSION:2.0
PRODID:-//ChamberMaster//Event Calendar 2.0//EN
METHOD:PUBLISH
X-PUBLISHED-TTL:P3D
REFRESH-INTERVAL:P3D
CALSCALE:GREGORIAN
BEGIN:VEVENT
DTSTART;VALUE=DATE:20090814
DTEND;VALUE=DATE:20090815
TRANSP:TRANSPARENT
X-MICROSOFT-CDO-ALLDAYEVENT:TRUE
SUMMARY:Rummage Sale
DESCRIPTION:The New Albany Company and the United Way of Central Ohio are teaming up to host a rummage sale and market on Friday\, August 14th. It will held from 9am until 4pm at Market Street and Johnstown Road/62. The event will feature fresh produce\, jewelry and crafts until 1pm and household goods and clothing until 4pm. For more information\, call 614-939-8000.All proceeds benefit the United Way of Central Ohio.
X-ALT-DESC;FMTTYPE=text/html:<div>The New Albany Company and the United Way of Central Ohio are teaming up to host a rummage sale and market on&nbsp\;Friday\, August 14th. It will held from 9am until 4pm at Market Street and Johnstown Road/62. The event will feature fresh produce\, jewelry and crafts until 1pm and household goods and clothing until 4pm. For more information\, call 614-939-8000.</div><div>All proceeds benefit the United Way of Central Ohio.</div>
LOCATION:
UID:e.304.489
SEQUENCE:3
DTSTAMP:20260421T202319Z
URL:https://cm.newalbanychamber.com/events/details/rummage-sale-08-14-2009-489
END:VEVENT

END:VCALENDAR
