BEGIN:VCALENDAR
VERSION:2.0
PRODID:-//ChamberMaster//Event Calendar 2.0//EN
METHOD:PUBLISH
X-PUBLISHED-TTL:P3D
REFRESH-INTERVAL:P3D
CALSCALE:GREGORIAN
BEGIN:VEVENT
DTSTART;VALUE=DATE:20081006
DTEND;VALUE=DATE:20081009
TRANSP:TRANSPARENT
X-MICROSOFT-CDO-ALLDAYEVENT:TRUE
SUMMARY:Rummage Sale
DESCRIPTION:The New Albany United Methodist Church invites you to the Annual Rummage Sale\, including pies and good food for sale. This sale will be held Monday\, October 6th from 5 - 9pm\, Tuesday\, October 7th from 9am - 7pm\, and Wednesday\, October 8th from 9am - noon. For more information contact Betty Emmons at 614-855-7075 or 614-329-6920 or contact Vi Johns at 614-476-6898.
X-ALT-DESC;FMTTYPE=text/html:<div>The New Albany United Methodist Church invites you to the Annual Rummage Sale\, including pies and good food for sale. This sale will be held Monday\, October 6th from 5 - 9pm\, Tuesday\, October 7th from 9am - 7pm\, and Wednesday\, October 8th from 9am - noon. For more information contact Betty Emmons at 614-855-7075 or 614-329-6920 or contact Vi Johns at 614-476-6898.</div>
LOCATION:
UID:e.304.241
SEQUENCE:3
DTSTAMP:20260422T101721Z
URL:https://cm.newalbanychamber.com/events/details/rummage-sale-10-06-2008-241
END:VEVENT

END:VCALENDAR
