BEGIN:VCALENDAR
VERSION:2.0
PRODID:-//ChamberMaster//Event Calendar 2.0//EN
METHOD:PUBLISH
X-PUBLISHED-TTL:P3D
REFRESH-INTERVAL:P3D
CALSCALE:GREGORIAN
BEGIN:VEVENT
DTSTART:20110319T123000Z
DTEND:20110319T133000Z
X-MICROSOFT-CDO-ALLDAYEVENT:FALSE
SUMMARY:Saturday Morning Walking Group
DESCRIPTION:Ultimate U Total Health and Krista Heisler\, ACSM-CPT\, offer this free walk every Saturday morning. All fitness levels welcomed. It's a great and fun way to start off the day!
X-ALT-DESC;FMTTYPE=text/html:Ultimate U Total Health and Krista Heisler\, ACSM-CPT\, offer this free walk every Saturday morning. All fitness levels welcomed. It's a great and fun way to start off the day!
LOCATION:Market Square\, in front of the Starbucks (Rain Location is Polaris Park Mall. We meet right inside the food court doors numbered 4)
UID:e.304.775
SEQUENCE:3
DTSTAMP:20260420T130630Z
URL:https://cm.newalbanychamber.com/events/details/saturday-morning-walking-group-03-19-2011-775
END:VEVENT

END:VCALENDAR
