BEGIN:VCALENDAR
VERSION:2.0
PRODID:-//ChamberMaster//Event Calendar 2.0//EN
METHOD:PUBLISH
X-PUBLISHED-TTL:P3D
REFRESH-INTERVAL:P3D
CALSCALE:GREGORIAN
BEGIN:VEVENT
DTSTART:20110504T180000Z
DTEND:20110504T190000Z
X-MICROSOFT-CDO-ALLDAYEVENT:FALSE
SUMMARY:SENIOR DAY AT THE THEATRE
DESCRIPTION:SENIOR DAY AT THE THEATRE\n\nLocal singer-songwriter and Grammy nominee Celeste Friedman presents a special day at the theatre for area seniors\, featuring her tribute to Patsy Cline in a one-woman show\, "You're Still Mine\, Patsy Cline" at the Licking County Players Theatre\, 131 West Main Street in Newark\, Ohio.\n\n\n\nA special afternoon is planned on Wednesday\, May 4th for a 2:00pm matinee performance.  Sponsored by DKG Internet Services\, Songs For Charlie Music and The Newark Advocate\, tickets are available in advance or at the door for a senior discount rate of $10.00 per person.\n\n\n\nHosted by Newark's own favorite radio personality Vince Swinehart\, the afternoon will also be shared by area high school student volunteers serving as ushers and attendants\, including the Mentorship for Leadership program. "Not only will this program offer a special treat for seniors\, it's a wonderful opportunity for our aspiring youth to be part of the arts in our community"\, states Friedman.\n\n\n\nMs. Friedman presents a walk down memory lane\, performing Patsy Cline's greatest hits\, blended with stories of her rise to fame as a pop and country artist from the late 1950's and early '60's.  Celeste's own bluesy\, contralto vocal quality heralds the smooth and lilting sounds of Patsy Cline that we will never forget.\n\n\n\nFor more information\, call 740.364.1223 or email: CelestialVoices1@aol.com  Visit our website at: http://YoureStillMinePatsyCline.webs.com\n\n\n\nJoin us as we kick off the month of May and springtime in downtown Newark for Senior Day at the Theatre!
X-ALT-DESC;FMTTYPE=text/html:SENIOR DAY AT THE THEATRE\n<br>Local singer-songwriter and Grammy nominee Celeste Friedman presents a special day at the theatre for area seniors\, featuring her tribute to Patsy Cline in a one-woman show\, "You're Still Mine\, Patsy Cline" at the Licking County Players Theatre\, 131 West Main Street in Newark\, Ohio.\n<br>\n<br>A special afternoon is planned on Wednesday\, May 4th for a 2:00pm matinee performance.  Sponsored by DKG Internet Services\, Songs For Charlie Music and The Newark Advocate\, tickets are available in advance or at the door for a senior discount rate of $10.00 per person.\n<br>\n<br>Hosted by Newark's own favorite radio personality Vince Swinehart\, the afternoon will also be shared by area high school student volunteers serving as ushers and attendants\, including the Mentorship for Leadership program. "Not only will this program offer a special treat for seniors\, it's a wonderful opportunity for our aspiring youth to be part of the arts in our community"\, states Friedman.\n<br>\n<br>Ms. Friedman presents a walk down memory lane\, performing Patsy Cline's greatest hits\, blended with stories of her rise to fame as a pop and country artist from the late 1950's and early '60's.  Celeste's own bluesy\, contralto vocal quality heralds the smooth and lilting sounds of Patsy Cline that we will never forget.\n<br>\n<br>For more information\, call 740.364.1223 or email: CelestialVoices1@aol.com  Visit our website at: http://YoureStillMinePatsyCline.webs.com\n<br>\n<br>Join us as we kick off the month of May and springtime in downtown Newark for Senior Day at the Theatre!
LOCATION:Licking County Players Theatre 131 West Main Street Newark\, Ohio
UID:e.304.793
SEQUENCE:3
DTSTAMP:20260420T101812Z
URL:https://cm.newalbanychamber.com/events/details/senior-day-at-the-theatre-05-04-2011-793
END:VEVENT

END:VCALENDAR
