BEGIN:VCALENDAR
VERSION:2.0
PRODID:-//ChamberMaster//Event Calendar 2.0//EN
METHOD:PUBLISH
X-PUBLISHED-TTL:P3D
REFRESH-INTERVAL:P3D
CALSCALE:GREGORIAN
BEGIN:VEVENT
DTSTART;VALUE=DATE:20090917
DTEND;VALUE=DATE:20090918
TRANSP:TRANSPARENT
X-MICROSOFT-CDO-ALLDAYEVENT:TRUE
SUMMARY:September Chamber Event 2009
DESCRIPTION:The New Albany Chamber of Commerce invites you to attend our monthly community update that will be held on Thursday\, September 17\, of 2009 beginning at 8 am. For more information contact the chamber at 614-855-4400.
X-ALT-DESC;FMTTYPE=text/html:<div>The New Albany Chamber of Commerce invites you to attend our monthly&nbsp\;community update&nbsp\;that will be held on Thursday\, September 17\,&nbsp\;of 2009 beginning at 8 am. For more information contact the chamber at 614-855-4400.</div>
LOCATION:
UID:e.304.406
SEQUENCE:3
DTSTAMP:20260421T173244Z
URL:https://cm.newalbanychamber.com/events/details/september-chamber-event-2009-09-17-2009-406
END:VEVENT

END:VCALENDAR
