BEGIN:VCALENDAR
VERSION:2.0
PRODID:-//ChamberMaster//Event Calendar 2.0//EN
METHOD:PUBLISH
X-PUBLISHED-TTL:P3D
REFRESH-INTERVAL:P3D
CALSCALE:GREGORIAN
BEGIN:VEVENT
DTSTART:20080823T220000Z
DTEND:20080824T003000Z
X-MICROSOFT-CDO-ALLDAYEVENT:FALSE
SUMMARY:Sizzling Sonoma Summer Wine Dinner at Epicures
DESCRIPTION:Prime Filet Mignon & Wild Mushroom Ragout\nPan seared Ahi Tuna with Petite Pairings\nBraised Brandied Pork Tenderloin & Apple Macadamia Beurre Blanc\nRoasted Red Pepper & Eggplant Involtini\nCandied Pecans & Strawberry Summer Salad\nChocolate Volcano with Rasberry Couli & CrÃ¨me Anglaise\n\n\nEstate Grown Wine Pairings & Flights\nSonoma County California\n\n\nCulinary Expertise\nJames Willard\, Certified Executive Chef\nGeorges Fournier\, Sommelier
X-ALT-DESC;FMTTYPE=text/html:Prime Filet Mignon & Wild Mushroom Ragout\nPan seared Ahi Tuna with Petite Pairings\nBraised Brandied Pork Tenderloin & Apple Macadamia Beurre Blanc\nRoasted Red Pepper & Eggplant Involtini\nCandied Pecans & Strawberry Summer Salad\nChocolate Volcano with Rasberry Couli & CrÃ¨me Anglaise\n\n\nEstate Grown Wine Pairings & Flights\nSonoma County California\n\n\nCulinary Expertise\nJames Willard\, Certified Executive Chef\nGeorges Fournier\, Sommelier\n\n
LOCATION:Epicures Banquet Center 7601 East Main\; Reynoldsburg
UID:e.304.253
SEQUENCE:3
DTSTAMP:20260422T143832Z
URL:https://cm.newalbanychamber.com/events/details/sizzling-sonoma-summer-wine-dinner-at-epicures-08-23-2008-253
END:VEVENT

END:VCALENDAR
