BEGIN:VCALENDAR
VERSION:2.0
PRODID:-//ChamberMaster//Event Calendar 2.0//EN
METHOD:PUBLISH
X-PUBLISHED-TTL:P3D
REFRESH-INTERVAL:P3D
CALSCALE:GREGORIAN
BEGIN:VEVENT
DTSTART:20091011T170000Z
DTEND:20091011T200000Z
X-MICROSOFT-CDO-ALLDAYEVENT:FALSE
SUMMARY:Special Events Open House
DESCRIPTION:East Golf Club is hosting a Special Events Open House!  October 11st from 1 to 4 pm.  Join us for food and prizes.  This is a free event.  View our renovations\, taste our food and visit with Central Ohio event professionals.
X-ALT-DESC;FMTTYPE=text/html:East Golf Club is hosting a Special Events Open House!  October 11st from 1 to 4 pm.  Join us for food and prizes.  This is a free event.  View our renovations\, taste our food and visit with Central Ohio event professionals.
LOCATION:6140 Babbitt Road\, New Albany\, Ohio 43054
UID:e.304.503
SEQUENCE:3
DTSTAMP:20260421T173331Z
URL:https://cm.newalbanychamber.com/events/details/special-events-open-house-10-11-2009-503
END:VEVENT

END:VCALENDAR
