BEGIN:VCALENDAR
VERSION:2.0
PRODID:-//ChamberMaster//Event Calendar 2.0//EN
METHOD:PUBLISH
X-PUBLISHED-TTL:P3D
REFRESH-INTERVAL:P3D
CALSCALE:GREGORIAN
BEGIN:VEVENT
DTSTART:20090502T233000Z
DTEND:20090503T010000Z
X-MICROSOFT-CDO-ALLDAYEVENT:FALSE
SUMMARY:Special Movie Screening-The Rookie
DESCRIPTION:Special Movie screening of the RookieStarring Dennis Quaid
X-ALT-DESC;FMTTYPE=text/html:<div>Special Movie screening of the Rookie</div><div>Starring Dennis Quaid</div>
LOCATION:McCoy Center for the Arts100 W. Granville Rd.\, Old Rt. 161New Albany\, Ohio 43054
UID:e.304.446
SEQUENCE:3
DTSTAMP:20260421T234544Z
URL:https://cm.newalbanychamber.com/events/details/special-movie-screening-the-rookie-05-02-2009-446
END:VEVENT

END:VCALENDAR
