BEGIN:VCALENDAR
VERSION:2.0
PRODID:-//ChamberMaster//Event Calendar 2.0//EN
METHOD:PUBLISH
X-PUBLISHED-TTL:P3D
REFRESH-INTERVAL:P3D
CALSCALE:GREGORIAN
BEGIN:VEVENT
DTSTART:20090409T140000Z
DTEND:20090411T210000Z
X-MICROSOFT-CDO-ALLDAYEVENT:FALSE
SUMMARY:Spring Attic Sale at Tailfeather's Boutique
DESCRIPTION:Spring Cleaning Attic Saleat Tailfeather's Boutique60-75% OFF  Apparel and Accessories that you can wear right now\, plus amazing sale merchandise will be here from HAYLEY GALLERY\, LA BELLE MAISON/THE CHILDREN'S NEST & other New Albany Retailers!3 days only!
X-ALT-DESC;FMTTYPE=text/html:<p><strong><font size="3">Spring Cleaning Attic Sale</font></strong></p><p><font size="3">at Tailfeather&rsquo\;s Boutique</font></p><p><font size="3">60-75% OFF&nbsp\; </font><font size="3">Apparel and Accessories that you can wear right now\, plus amazing sale merchandise will be here from HAYLEY GALLERY\, LA BELLE MAISON/THE CHILDREN'S NEST &amp\; other New Albany Retailers!</font></p><p><font size="3">3 days only!</font></p>
LOCATION:Tailfeather's Boutique31 N. High StreetNew Albany\, Ohio 43054
UID:e.304.442
SEQUENCE:3
DTSTAMP:20260422T005714Z
URL:https://cm.newalbanychamber.com/events/details/spring-attic-sale-at-tailfeather-s-boutique-04-09-2009-442
END:VEVENT

END:VCALENDAR
