BEGIN:VCALENDAR
VERSION:2.0
PRODID:-//ChamberMaster//Event Calendar 2.0//EN
METHOD:PUBLISH
X-PUBLISHED-TTL:P3D
REFRESH-INTERVAL:P3D
CALSCALE:GREGORIAN
BEGIN:VEVENT
DTSTART;VALUE=DATE:20090330
DTEND;VALUE=DATE:20090406
TRANSP:TRANSPARENT
X-MICROSOFT-CDO-ALLDAYEVENT:TRUE
SUMMARY:Spring Break for New Albany Schools
DESCRIPTION:
X-ALT-DESC;FMTTYPE=text/html:
LOCATION:
UID:e.304.299
SEQUENCE:3
DTSTAMP:20260422T005359Z
URL:https://cm.newalbanychamber.com/events/details/spring-break-for-new-albany-schools-03-30-2009-299
END:VEVENT

END:VCALENDAR
