BEGIN:VCALENDAR
VERSION:2.0
PRODID:-//ChamberMaster//Event Calendar 2.0//EN
METHOD:PUBLISH
X-PUBLISHED-TTL:P3D
REFRESH-INTERVAL:P3D
CALSCALE:GREGORIAN
BEGIN:VEVENT
DTSTART:20090411T173000Z
DTEND:20090411T193000Z
X-MICROSOFT-CDO-ALLDAYEVENT:FALSE
SUMMARY:Spring Egg Hunt 2009
DESCRIPTION:The New Albany Community Events invites you to attend the annual Community Spring Egg Hunt to be held Saturday\, April 11th.  Don't forget to bring your basket!!\n\n \n\nPICTURES WITH THE EASTER BUNNY\n\nEGG HUNT\n\nCRAFTS FOR THE CHILDREN\n\nFOOD VENDORS
X-ALT-DESC;FMTTYPE=text/html:<div>The New Albany Community Events invites you to attend the annual <strong>Community Spring Egg Hunt</strong> to be held Saturday\, April 11th.&nbsp\; Don&rsquo\;t forget to bring your basket!!</div>\n\n<div>&nbsp\;</div>\n\n<div>PICTURES WITH THE EASTER BUNNY</div>\n\n<div>EGG HUNT</div>\n\n<div>CRAFTS FOR THE CHILDREN</div>\n\n<div>FOOD VENDORS</div>\n
LOCATION:Wexner Community Park Fodor Fields Located on Swickard Wood Boulevard across from the Plain Township Aquatic Center. (from the 161 E. exit\, turn right onto New Albany Rd.\, this will deadend into Fodor Rd.\,turn left and then left at the blicker light. That will be Swickard Wood Boulevard.
UID:e.304.424
SEQUENCE:3
DTSTAMP:20260422T004319Z
URL:https://cm.newalbanychamber.com/events/details/spring-egg-hunt-2009-424
END:VEVENT

END:VCALENDAR
